BYTEORDER      M BITMAP DESC Ž©‘R‹³ˆç‰€
NODATA         -9999
NCOLS          2483
NROWS          3508
ULXMAP         139.719935383778
ULYMAP         35.638492535640
XDIM           0.000002404055
YDIM           0.000001964360
XDIV           1
YDIV           1
DATUM          Tokyo
