BYTEORDER      M BITMAP DESC cΒn
NODATA         -9999
NCOLS          4030
NROWS          3599
ULXMAP         139.554507842734
ULYMAP         35.612715840074
XDIM           0.000002336352
YDIM           0.000001933447
XDIV           1
YDIV           1
DATUM          WGS84
